BEGIN:VCALENDAR
VERSION:2.0
PRODID:-//Diakonissen Riehen - ECPv6.15.20//NONSGML v1.0//EN
CALSCALE:GREGORIAN
METHOD:PUBLISH
X-WR-CALNAME:Diakonissen Riehen
X-ORIGINAL-URL:https://www.diakonissen-riehen.ch
X-WR-CALDESC:Veranstaltungen für Diakonissen Riehen
REFRESH-INTERVAL;VALUE=DURATION:PT1H
X-Robots-Tag:noindex
X-PUBLISHED-TTL:PT1H
BEGIN:VTIMEZONE
TZID:Europe/Berlin
BEGIN:DAYLIGHT
TZOFFSETFROM:+0100
TZOFFSETTO:+0200
TZNAME:CEST
DTSTART:20250330T010000
END:DAYLIGHT
BEGIN:STANDARD
TZOFFSETFROM:+0200
TZOFFSETTO:+0100
TZNAME:CET
DTSTART:20251026T010000
END:STANDARD
BEGIN:DAYLIGHT
TZOFFSETFROM:+0100
TZOFFSETTO:+0200
TZNAME:CEST
DTSTART:20260329T010000
END:DAYLIGHT
BEGIN:STANDARD
TZOFFSETFROM:+0200
TZOFFSETTO:+0100
TZNAME:CET
DTSTART:20261025T010000
END:STANDARD
BEGIN:DAYLIGHT
TZOFFSETFROM:+0100
TZOFFSETTO:+0200
TZNAME:CEST
DTSTART:20270328T010000
END:DAYLIGHT
BEGIN:STANDARD
TZOFFSETFROM:+0200
TZOFFSETTO:+0100
TZNAME:CET
DTSTART:20271031T010000
END:STANDARD
END:VTIMEZONE
BEGIN:VEVENT
DTSTART;TZID=Europe/Berlin:20260502T094500
DTEND;TZID=Europe/Berlin:20260502T161500
DTSTAMP:20260424T133702
CREATED:20251125T135115Z
LAST-MODIFIED:20251125T135117Z
UID:16321-1777715100-1777738500@www.diakonissen-riehen.ch
SUMMARY:Meditationstanztag
DESCRIPTION:«Beten mit Leib und Seele» ist eine Form\, sich ganzheitlich zu öffnen für Gott. \n\n\n\nFlyer)Herunterladen
URL:https://www.diakonissen-riehen.ch/agenda/meditationstanztag/
LOCATION:Geistlich-diakonisches Zentrum\, Spitalweg 20\, Riehen\, 4125\, Schweiz
CATEGORIES:Veranstaltung
ATTACH;FMTTYPE=image/jpeg:https://www.diakonissen-riehen.ch/wp-content/uploads/2025/09/Lydia.jpg
END:VEVENT
END:VCALENDAR